BEGIN:VCALENDAR
VERSION:2.0
PRODID:-//Tukios.com/
BEGIN:VEVENT
UID:5ee7910c-afc5-4902-b3b0-0a47c20f7f2a@www.schafferfh.com
DTSTAMP:20260424T200017Z
DTSTART:20260426T180000Z
DTEND:20260426T230000Z
SUMMARY:Visitation
DESCRIPTION:
URL:https://www.schafferfh.com/obituaries/shirley-groll
LOCATION:Schaffer Funeral Home 529 Jefferson Avenue  Defiance OH 43512
GEO:41.2829485;-84.3609948
END:VEVENT
END:VCALENDAR