BEGIN:VCALENDAR
VERSION:2.0
PRODID:-//Tukios.com/
BEGIN:VEVENT
UID:66082529-309e-4d4c-a31d-2b80b2c21794@www.schafferfh.com
DTSTAMP:20260422T213939Z
DTSTART:20260502T150000Z
DTEND:20260502T170000Z
SUMMARY:Visitation
DESCRIPTION:
URL:https://www.schafferfh.com/obituaries/rita-frankenberry-green
LOCATION:Schaffer Funeral Home 529 Jefferson Avenue  Defiance OH 43512
GEO:41.2829485;-84.3609948
END:VEVENT
END:VCALENDAR