BEGIN:VCALENDAR
VERSION:2.0
PRODID:-//Tukios.com/
BEGIN:VEVENT
UID:cf840a0c-1e84-4fd4-b421-4961cbba07df@www.schafferfh.com
DTSTAMP:20260422T213250Z
DTSTART:20260425T140000Z
DTEND:20260425T150000Z
SUMMARY:Committal
DESCRIPTION:
URL:https://www.schafferfh.com/obituaries/rev-juan-perez
LOCATION:Riverside Cemetery 1300 S Clinton Street  Defiance OH 43512
GEO:41.27494;-84.3771255
END:VEVENT
END:VCALENDAR