BEGIN:VCALENDAR
VERSION:2.0
PRODID:-//Tukios.com/
BEGIN:VEVENT
UID:84304cd7-3cbe-4a0f-bbfb-ec7650bd96fa@www.schafferfh.com
DTSTAMP:20260422T213249Z
DTSTART:20260424T220000Z
DTEND:20260424T230000Z
SUMMARY:Funeral Service
DESCRIPTION:
URL:https://www.schafferfh.com/obituaries/rev-juan-perez
LOCATION:Schaffer Funeral Home 529 Jefferson Avenue  Defiance OH 43512
GEO:41.2829485;-84.3609948
END:VEVENT
END:VCALENDAR