BEGIN:VCALENDAR
VERSION:2.0
PRODID:-//Tukios.com/
BEGIN:VEVENT
UID:bc687cf7-1945-4775-80d9-323206ce8487@www.schafferfh.com
DTSTAMP:20260422T213250Z
DTSTART:20260424T180000Z
DTEND:20260424T220000Z
SUMMARY:Visitation
DESCRIPTION:
URL:https://www.schafferfh.com/obituaries/rev-juan-perez
LOCATION:Schaffer Funeral Home 529 Jefferson Avenue  Defiance OH 43512
GEO:41.2829485;-84.3609948
END:VEVENT
END:VCALENDAR