BEGIN:VCALENDAR
VERSION:2.0
PRODID:-//Tukios.com/
BEGIN:VEVENT
UID:28994e68-b3d3-4a3b-bf0e-f2d857689686@www.schafferfh.com
DTSTAMP:20260422T211909Z
DTSTART:20260509T170000Z
DTEND:20260509T180000Z
SUMMARY:Memorial Service
DESCRIPTION:
URL:https://www.schafferfh.com/obituaries/marvin-lemaster
LOCATION:Schaffer Funeral Home 529 Jefferson Avenue  Defiance OH 43512
GEO:41.2829485;-84.3609948
END:VEVENT
END:VCALENDAR