BEGIN:VCALENDAR
VERSION:2.0
PRODID:-//Tukios.com/
BEGIN:VEVENT
UID:11ff02b5-fedd-4b19-a48b-28edafceb079@www.schafferfh.com
DTSTAMP:20260422T211941Z
DTSTART:20260509T150000Z
DTEND:20260509T170000Z
SUMMARY:Visitation
DESCRIPTION:
URL:https://www.schafferfh.com/obituaries/marvin-lemaster
LOCATION:Schaffer Funeral Home 529 Jefferson Avenue  Defiance OH 43512
GEO:41.2829485;-84.3609948
END:VEVENT
END:VCALENDAR