BEGIN:VCALENDAR
VERSION:2.0
PRODID:-//Tukios.com/
BEGIN:VEVENT
UID:2f34d88d-6ff9-43ad-a35a-62e0f0e17e3a@www.schafferfh.com
DTSTAMP:20260426T015354Z
DTSTART:20260606T160000Z
DTEND:20260606T170000Z
SUMMARY:Memorial Gathering
DESCRIPTION:
URL:https://www.schafferfh.com/obituaries/edward-kenning
LOCATION:Defiance Moose Lodge 841 N Clinton St  Defiance OH 43512
GEO:41.2981715;-84.3604425
END:VEVENT
END:VCALENDAR