BEGIN:VCALENDAR
VERSION:2.0
PRODID:-//Tukios.com/
BEGIN:VEVENT
UID:9409b79d-5228-4bb7-853c-7b3e93c81616@www.schafferfh.com
DTSTAMP:20260426T015711Z
DTSTART:20260606T150000Z
DTEND:20260606T160000Z
SUMMARY:Graveside Service
DESCRIPTION:
URL:https://www.schafferfh.com/obituaries/edward-kenning
LOCATION:Riverview Memory Gardens 29231 County Road 424  Defiance OH 
	43512
GEO:41.2939027;-84.2575112
END:VEVENT
END:VCALENDAR