BEGIN:VCALENDAR
VERSION:2.0
PRODID:-//Tukios.com/
BEGIN:VEVENT
UID:5abb493f-fdce-4fdc-aac0-56b049428570@www.schafferfh.com
DTSTAMP:20260422T165008Z
DTSTART:20260423T150000Z
DTEND:20260423T160000Z
SUMMARY:Funeral Service
DESCRIPTION:
URL:https://www.schafferfh.com/obituaries/carol-mcgue-porter
LOCATION:Schaffer Funeral Home South, Lawson-Roessner Chapel 1753 S 
	Clinton St  Defiance OH 43512
GEO:41.2584713;-84.3924378
END:VEVENT
END:VCALENDAR