BEGIN:VCALENDAR
VERSION:2.0
PRODID:-//Tukios.com/
BEGIN:VEVENT
UID:33f7230e-9eca-4eaf-834a-4a78ca0dac86@www.schafferfh.com
DTSTAMP:20260422T164519Z
DTSTART:20260423T130000Z
DTEND:20260423T150000Z
SUMMARY:Visitation
DESCRIPTION:
URL:https://www.schafferfh.com/obituaries/carol-mcgue-porter
LOCATION:Schaffer Funeral Home South, Lawson-Roessner Chapel 1753 S 
	Clinton St  Defiance OH 43512
GEO:41.2584713;-84.3924378
END:VEVENT
END:VCALENDAR