BEGIN:VCALENDAR
VERSION:2.0
PRODID:-//Tukios.com/
BEGIN:VEVENT
UID:7afd9418-d889-4b08-a964-51353261b0e9@www.schafferfh.com
DTSTAMP:20260423T224647Z
DTSTART:20260426T190000Z
DTEND:20260427T000000Z
SUMMARY:Visitation
DESCRIPTION:
URL:https://www.schafferfh.com/obituaries/bonnie-fosnaugh
LOCATION: 955 Standley Rd  Defiance OH 43512
GEO:41.2689127;-84.3409222
END:VEVENT
END:VCALENDAR